BEGIN:VCALENDAR
VERSION:2.0
PRODID:-//Tukios.com/
BEGIN:VEVENT
UID:74e8d3d3-2826-46af-ab46-6b70cce3969e@www.petersonkraemer.com
DTSTAMP:20260420T182317Z
DTSTART:20260425T160000Z
DTEND:20260425T170000Z
SUMMARY:Funeral Service
DESCRIPTION:
URL:https://www.petersonkraemer.com/obituaries/robert-bob-gage
LOCATION: 700 Market Street  Marathon City WI 54448
GEO:44.9282145;-89.8384428
END:VEVENT
END:VCALENDAR