BEGIN:VCALENDAR
VERSION:2.0
PRODID:-//Tukios.com/
BEGIN:VEVENT
UID:e4488ed4-2d45-41a9-8d5b-ebfb8f58057f@www.petersonkraemer.com
DTSTAMP:20260420T182832Z
DTSTART:20260425T140000Z
DTEND:20260425T160000Z
SUMMARY:Visitation
DESCRIPTION:
URL:https://www.petersonkraemer.com/obituaries/robert-bob-gage
LOCATION: 700 Market Street  Marathon City WI 54448
GEO:44.9282145;-89.8384428
END:VEVENT
END:VCALENDAR