BEGIN:VCALENDAR
VERSION:2.0
PRODID:-//Tukios.com/
BEGIN:VEVENT
UID:39c989ab-9214-4b86-b4e2-487127e432e0@www.petersonkraemer.com
DTSTAMP:20260420T215204Z
DTSTART:20260427T171500Z
DTEND:20260427T173000Z
SUMMARY:Burial
DESCRIPTION:
URL:https://www.petersonkraemer.com/obituaries/grace-brickner
LOCATION:    Marathon City WI 54448
GEO:44.9304719;-89.8402105
END:VEVENT
END:VCALENDAR