BEGIN:VCALENDAR
VERSION:2.0
PRODID:-//Tukios.com/
BEGIN:VEVENT
UID:b46b6a43-bbbf-49f4-ac23-d2c70511c85b@www.petersonkraemer.com
DTSTAMP:20260420T215238Z
DTSTART:20260427T160000Z
DTEND:20260427T170000Z
SUMMARY:Funeral Service
DESCRIPTION:
URL:https://www.petersonkraemer.com/obituaries/grace-brickner
LOCATION:St. Mary Catholic Church 712 Market Street  Marathon City WI 
	54448
GEO:44.9284999;-89.838599
END:VEVENT
END:VCALENDAR