BEGIN:VCALENDAR
VERSION:2.0
PRODID:-//Tukios.com/
BEGIN:VEVENT
UID:736d8e89-b814-4a4e-a7bf-ee57f6d41937@www.petersonkraemer.com
DTSTAMP:20260420T215239Z
DTSTART:20260427T140000Z
DTEND:20260427T154500Z
SUMMARY:Visitation
DESCRIPTION:
URL:https://www.petersonkraemer.com/obituaries/grace-brickner
LOCATION:St. Mary Catholic Church 712 Market Street  Marathon City WI 
	54448
GEO:44.9284999;-89.838599
END:VEVENT
END:VCALENDAR