BEGIN:VCALENDAR
VERSION:2.0
PRODID:-//Tukios.com/
BEGIN:VEVENT
UID:37575b77-6800-49ff-8aa9-13e614a71e9c@www.petersonkraemer.com
DTSTAMP:20260420T215203Z
DTSTART:20260426T200000Z
DTEND:20260427T000000Z
SUMMARY:Visitation
DESCRIPTION:
URL:https://www.petersonkraemer.com/obituaries/grace-brickner
LOCATION:St. Mary Catholic Church 712 Market Street  Marathon City WI 
	54448
GEO:44.9284999;-89.838599
END:VEVENT
END:VCALENDAR