BEGIN:VCALENDAR
VERSION:2.0
PRODID:-//Tukios.com/
BEGIN:VEVENT
UID:29687069-648d-4db0-8c4b-cdaf79317f61@www.petersonkraemer.com
DTSTAMP:20260423T223139Z
DTSTART:20260501T170000Z
DTEND:20260501T180000Z
SUMMARY:Funeral Service
DESCRIPTION:
URL:https://www.petersonkraemer.com/obituaries/cathy-burnett
LOCATION:Mount Olive Lutheran Church 6205 Alderson Street  Weston WI 
	54476
GEO:44.9007174;-89.5917327
END:VEVENT
END:VCALENDAR