BEGIN:VCALENDAR
VERSION:2.0
PRODID:-//Tukios.com/
BEGIN:VEVENT
UID:f45b3fb8-f570-422b-b17b-a2ee8c6be2be@www.petersonkraemer.com
DTSTAMP:20260423T222706Z
DTSTART:20260501T140000Z
DTEND:20260501T170000Z
SUMMARY:Visitation
DESCRIPTION:
URL:https://www.petersonkraemer.com/obituaries/cathy-burnett
LOCATION:Mount Olive Lutheran Church 6205 Alderson Street  Weston WI 
	54476
GEO:44.9007174;-89.5917327
END:VEVENT
END:VCALENDAR